BEGIN:VCALENDAR
VERSION:2.0
PRODID:-//ROX | ホストクラブ | 岡山県岡山市北区柳町2-1-7 ラポール柳町4F - ECPv5.14.0.3//NONSGML v1.0//EN
CALSCALE:GREGORIAN
METHOD:PUBLISH
X-WR-CALNAME:ROX | ホストクラブ | 岡山県岡山市北区柳町2-1-7 ラポール柳町4F
X-ORIGINAL-URL:https://club-zero-okayama.com
X-WR-CALDESC:ROX | ホストクラブ | 岡山県岡山市北区柳町2-1-7 ラポール柳町4F のイベント
REFRESH-INTERVAL;VALUE=DURATION:PT1H
X-Robots-Tag:noindex
X-PUBLISHED-TTL:PT1H
BEGIN:VTIMEZONE
TZID:Asia/Tokyo
BEGIN:STANDARD
TZOFFSETFROM:+0900
TZOFFSETTO:+0900
TZNAME:JST
DTSTART:20250101T000000
END:STANDARD
END:VTIMEZONE
BEGIN:VEVENT
DTSTART;VALUE=DATE:20251214
DTEND;VALUE=DATE:20251215
DTSTAMP:20260423T003231
CREATED:20251206T003017Z
LAST-MODIFIED:20251206T003017Z
UID:1357-1765670400-1765756799@club-zero-okayama.com
SUMMARY:グランドオープン
DESCRIPTION:
URL:https://club-zero-okayama.com/event/%e3%82%b0%e3%83%a9%e3%83%b3%e3%83%89%e3%82%aa%e3%83%bc%e3%83%97%e3%83%b3
ATTACH;FMTTYPE=image/jpeg:https://club-zero-okayama.com/wp-content/uploads/new-image.jpg
END:VEVENT
END:VCALENDAR