BEGIN:VCALENDAR
VERSION:2.0
PRODID:-//ROX | ホストクラブ | 岡山県岡山市北区柳町2-1-7 ラポール柳町4F - ECPv5.14.0.3//NONSGML v1.0//EN
CALSCALE:GREGORIAN
METHOD:PUBLISH
X-WR-CALNAME:ROX | ホストクラブ | 岡山県岡山市北区柳町2-1-7 ラポール柳町4F
X-ORIGINAL-URL:https://club-zero-okayama.com
X-WR-CALDESC:ROX | ホストクラブ | 岡山県岡山市北区柳町2-1-7 ラポール柳町4F のイベント
REFRESH-INTERVAL;VALUE=DURATION:PT1H
X-Robots-Tag:noindex
X-PUBLISHED-TTL:PT1H
BEGIN:VTIMEZONE
TZID:Asia/Tokyo
BEGIN:STANDARD
TZOFFSETFROM:+0900
TZOFFSETTO:+0900
TZNAME:JST
DTSTART:20260101T000000
END:STANDARD
END:VTIMEZONE
BEGIN:VEVENT
DTSTART;VALUE=DATE:20260214
DTEND;VALUE=DATE:20260215
DTSTAMP:20260422T211852
CREATED:20260206T223100Z
LAST-MODIFIED:20260206T223100Z
UID:1414-1771027200-1771113599@club-zero-okayama.com
SUMMARY:バレタインイベント/中間締日
DESCRIPTION:
URL:https://club-zero-okayama.com/event/%e3%83%90%e3%83%ac%e3%82%bf%e3%82%a4%e3%83%b3%e3%82%a4%e3%83%99%e3%83%b3%e3%83%88-%e4%b8%ad%e9%96%93%e7%b7%a0%e6%97%a5
ATTACH;FMTTYPE=image/jpeg:https://club-zero-okayama.com/wp-content/uploads/new-image.jpg
END:VEVENT
END:VCALENDAR