BEGIN:VCALENDAR
VERSION:2.0
PRODID:-//ROX | ホストクラブ | 岡山県岡山市北区柳町2-1-7 ラポール柳町4F - ECPv5.14.0.3//NONSGML v1.0//EN
CALSCALE:GREGORIAN
METHOD:PUBLISH
X-WR-CALNAME:ROX | ホストクラブ | 岡山県岡山市北区柳町2-1-7 ラポール柳町4F
X-ORIGINAL-URL:https://club-zero-okayama.com
X-WR-CALDESC:ROX | ホストクラブ | 岡山県岡山市北区柳町2-1-7 ラポール柳町4F のイベント
REFRESH-INTERVAL;VALUE=DURATION:PT1H
X-Robots-Tag:noindex
X-PUBLISHED-TTL:PT1H
BEGIN:VTIMEZONE
TZID:Asia/Tokyo
BEGIN:STANDARD
TZOFFSETFROM:+0900
TZOFFSETTO:+0900
TZNAME:JST
DTSTART:20260101T000000
END:STANDARD
END:VTIMEZONE
BEGIN:VEVENT
DTSTART;VALUE=DATE:20260324
DTEND;VALUE=DATE:20260326
DTSTAMP:20260422T193944
CREATED:20260307T142130Z
LAST-MODIFIED:20260307T142144Z
UID:1453-1774310400-1774483199@club-zero-okayama.com
SUMMARY:コウ代表バースデー
DESCRIPTION:
URL:https://club-zero-okayama.com/event/%e3%82%b3%e3%82%a6%e4%bb%a3%e8%a1%a8%e3%83%90%e3%83%bc%e3%82%b9%e3%83%87%e3%83%bc
ATTACH;FMTTYPE=image/jpeg:https://club-zero-okayama.com/wp-content/uploads/new-image.jpg
END:VEVENT
END:VCALENDAR