BEGIN:VCALENDAR
VERSION:2.0
PRODID:-//ROX | ホストクラブ | 岡山県岡山市北区柳町2-1-7 ラポール柳町4F - ECPv5.14.0.3//NONSGML v1.0//EN
CALSCALE:GREGORIAN
METHOD:PUBLISH
X-WR-CALNAME:ROX | ホストクラブ | 岡山県岡山市北区柳町2-1-7 ラポール柳町4F
X-ORIGINAL-URL:https://club-zero-okayama.com
X-WR-CALDESC:ROX | ホストクラブ | 岡山県岡山市北区柳町2-1-7 ラポール柳町4F のイベント
REFRESH-INTERVAL;VALUE=DURATION:PT1H
X-Robots-Tag:noindex
X-PUBLISHED-TTL:PT1H
BEGIN:VTIMEZONE
TZID:Asia/Tokyo
BEGIN:STANDARD
TZOFFSETFROM:+0900
TZOFFSETTO:+0900
TZNAME:JST
DTSTART:20260101T000000
END:STANDARD
END:VTIMEZONE
BEGIN:VEVENT
DTSTART;VALUE=DATE:20260422
DTEND;VALUE=DATE:20260423
DTSTAMP:20260422T193746
CREATED:20260411T232252Z
LAST-MODIFIED:20260411T232252Z
UID:1480-1776816000-1776902399@club-zero-okayama.com
SUMMARY:貴女ノ 翼 Birthday
DESCRIPTION:
URL:https://club-zero-okayama.com/event/%e8%b2%b4%e5%a5%b3%e3%83%8e-%e7%bf%bc-birthday
ATTACH;FMTTYPE=image/jpeg:https://club-zero-okayama.com/wp-content/uploads/new-image.jpg
END:VEVENT
END:VCALENDAR